BEGIN:VCALENDAR
VERSION:2.0
PRODID:-//Fox Valley Concert Band - ECPv6.15.20//NONSGML v1.0//EN
CALSCALE:GREGORIAN
METHOD:PUBLISH
X-WR-CALNAME:Fox Valley Concert Band
X-ORIGINAL-URL:https://www.fvcb.org/wp
X-WR-CALDESC:Events for Fox Valley Concert Band
REFRESH-INTERVAL;VALUE=DURATION:PT1H
X-Robots-Tag:noindex
X-PUBLISHED-TTL:PT1H
BEGIN:VTIMEZONE
TZID:UTC
BEGIN:STANDARD
TZOFFSETFROM:+0000
TZOFFSETTO:+0000
TZNAME:UTC
DTSTART:20190101T000000
END:STANDARD
END:VTIMEZONE
BEGIN:VEVENT
DTSTART;TZID=UTC:20200503T150000
DTEND;TZID=UTC:20200503T150000
DTSTAMP:20260423T123941
CREATED:20190812T184313Z
LAST-MODIFIED:20190814T210947Z
UID:1126-1588518000-1588518000@www.fvcb.org
SUMMARY:2020 - Spring Concert II - The Personal Touch
DESCRIPTION:Concert Program\n\n\n\n\n	Procession of the NoblesRimsky-Korsakov\n\n\n	First Suite for Military BandGustav Holst\n\n\n	On a Hymnsong of Philip BlissDavid Holsinger\n\n\n	Golden BearJ. J. Richards\n\n\n	Irish Tune from County Derry and Shepherd’s HeyPercy Grainger\n\n\n	Third Suite for BandAlfred Reed\n\n\n	When the Stars Began to FallFred Allen\n\n\n	Pines of the Appian WayOttorino Respighi\n\n\n\n \n  \nThis and all our concert programs are FREE. No tickets are required.\n 
URL:https://www.fvcb.org/wp/event/may-3-2020/
LOCATION:Norris Cultural Arts Center\, 1050 Dunham Road\, St. Charles\, IL\, 60174\, United States
END:VEVENT
END:VCALENDAR